BEGIN:VCALENDAR
VERSION:2.0
PRODID:-//ShopBotanic - ECPv6.15.18//NONSGML v1.0//EN
CALSCALE:GREGORIAN
METHOD:PUBLISH
X-WR-CALNAME:ShopBotanic
X-ORIGINAL-URL:https://shopbotanic.com
X-WR-CALDESC:Events for ShopBotanic
REFRESH-INTERVAL;VALUE=DURATION:PT1H
X-Robots-Tag:noindex
X-PUBLISHED-TTL:PT1H
BEGIN:VTIMEZONE
TZID:America/Chicago
BEGIN:DAYLIGHT
TZOFFSETFROM:-0600
TZOFFSETTO:-0500
TZNAME:CDT
DTSTART:20240310T080000
END:DAYLIGHT
BEGIN:STANDARD
TZOFFSETFROM:-0500
TZOFFSETTO:-0600
TZNAME:CST
DTSTART:20241103T070000
END:STANDARD
BEGIN:DAYLIGHT
TZOFFSETFROM:-0600
TZOFFSETTO:-0500
TZNAME:CDT
DTSTART:20250309T080000
END:DAYLIGHT
BEGIN:STANDARD
TZOFFSETFROM:-0500
TZOFFSETTO:-0600
TZNAME:CST
DTSTART:20251102T070000
END:STANDARD
BEGIN:DAYLIGHT
TZOFFSETFROM:-0600
TZOFFSETTO:-0500
TZNAME:CDT
DTSTART:20260308T080000
END:DAYLIGHT
BEGIN:STANDARD
TZOFFSETFROM:-0500
TZOFFSETTO:-0600
TZNAME:CST
DTSTART:20261101T070000
END:STANDARD
END:VTIMEZONE
BEGIN:VEVENT
DTSTART;TZID=America/Chicago:20251121T183000
DTEND;TZID=America/Chicago:20251121T220000
DTSTAMP:20260424T120532
CREATED:20250929T193116Z
LAST-MODIFIED:20251020T214057Z
UID:3109-1763749800-1763762400@shopbotanic.com
SUMMARY:Live Music | Music in the Magnolias
DESCRIPTION:[vc_row type=”in_container” full_screen_row_position=”middle” column_margin=”default” column_direction=”default” column_direction_tablet=”default” column_direction_phone=”default” scene_position=”center” text_color=”dark” text_align=”left” row_border_radius=”none” row_border_radius_applies=”bg” overflow=”visible” overlay_strength=”0.3″ gradient_direction=”left_to_right” shape_divider_position=”bottom” bg_image_animation=”none”][vc_column column_padding=”no-extra-padding” column_padding_tablet=”inherit” column_padding_phone=”inherit” column_padding_position=”all” column_element_spacing=”default” background_color_opacity=”1″ background_hover_color_opacity=”1″ column_shadow=”none” column_border_radius=”none” column_link_target=”_self” column_position=”default” gradient_direction=”left_to_right” overlay_strength=”0.3″ width=”1/2″ tablet_width_inherit=”default” tablet_text_alignment=”default” phone_text_alignment=”default” animation_type=”default” bg_image_animation=”none” border_type=”simple” column_border_width=”none” column_border_style=”solid”][vc_column_text]Join us under the canopy of magnolia trees for an unforgettable night of live music on Friday\, November 21\, 2025. This outdoor concert will showcase two incredible acts: kick off the evening with the soulful southern rock sounds of Grits & Greens\, then settle in for a high-energy headlining performance by Outpost Drive.[/vc_column_text][nectar_btn size=”jumbo” open_new_tab=”true” button_style=”regular” button_color_2=”Accent-Color” solid_text_color_override=”#ffffff” icon_family=”none” text=”GET YOUR TICKETS!” url=”https://www.ticketsignup.io/TicketEvent/MusicInTheMagnolias”][/vc_column][vc_column column_padding=”no-extra-padding” column_padding_tablet=”inherit” column_padding_phone=”inherit” column_padding_position=”all” column_element_spacing=”default” background_color_opacity=”1″ background_hover_color_opacity=”1″ column_shadow=”none” column_border_radius=”none” column_link_target=”_self” column_position=”default” gradient_direction=”left_to_right” overlay_strength=”0.3″ width=”1/2″ tablet_width_inherit=”default” tablet_text_alignment=”default” phone_text_alignment=”default” animation_type=”default” bg_image_animation=”none” border_type=”simple” column_border_width=”none” column_border_style=”solid”][vc_custom_heading text=”ABOUT THE ACTS” font_container=”tag:h1|font_size:50|text_align:left” use_theme_fonts=”yes”][image_with_animation image_url=”2825″ image_size=”regular_small” animation_type=”entrance” animation=”Fade In” hover_animation=”none” alignment=”” border_radius=”none” box_shadow=”none” image_loading=”default” max_width=”100%” max_width_mobile=”default”][vc_column_text]Outpost Drive\, where the American South meets The British Isles\, features the talents of Willow Robinson and Mary Bragg Robinson. Mary Bragg\, a native of Mobile\, Alabama\, tells tales of her homeland with honey sweet vocals\, while Willow who grew up in the English Countryside\, brings his powerful voice and guitar playing to their harmonious blend of American Country and British Folk. The two found each other on Outpost Drive in Los Angeles\, California. The rest is history. [/vc_column_text][divider line_type=”No Line”][image_with_animation image_url=”3140″ image_size=”regular_small” animation_type=”entrance” animation=”Fade In” hover_animation=”none” alignment=”” border_radius=”none” box_shadow=”none” image_loading=”default” max_width=”100%” max_width_mobile=”default”][vc_column_text]Grits & Greens is a Mississippi-based quartet bringing a fresh take on rock and roll. Blending soulful melodies\, dynamic guitar work\, and a touch of improvisation\, their live shows are filled with energy and heart. With a sound that’s both raw and refined\, they create an experience that draws listeners in and keeps them moving.[/vc_column_text][/vc_column][/vc_row]
URL:https://shopbotanic.com/event/live-music-music-in-the-magnolias/
LOCATION:Patio Bar\, 1702 FREDERICK RD\, OPELIKA\, 36801\, United States
CATEGORIES:Live Music
ATTACH;FMTTYPE=image/jpeg:https://shopbotanic.com/wp-content/uploads/2025/03/outpost-drive-2.jpg
END:VEVENT
END:VCALENDAR